BEGIN:VCALENDAR
VERSION:2.0
PRODID:-//Lydd Kart Circuit - ECPv6.15.20//NONSGML v1.0//EN
CALSCALE:GREGORIAN
METHOD:PUBLISH
X-ORIGINAL-URL:https://lyddkartcircuit.com
X-WR-CALDESC:Events for Lydd Kart Circuit
REFRESH-INTERVAL;VALUE=DURATION:PT1H
X-Robots-Tag:noindex
X-PUBLISHED-TTL:PT1H
BEGIN:VTIMEZONE
TZID:UTC
BEGIN:STANDARD
TZOFFSETFROM:+0000
TZOFFSETTO:+0000
TZNAME:UTC
DTSTART:20250101T000000
END:STANDARD
END:VTIMEZONE
BEGIN:VEVENT
DTSTART;TZID=UTC:20260626T160000
DTEND;TZID=UTC:20260626T190000
DTSTAMP:20260420T151234
CREATED:20260305T142722Z
LAST-MODIFIED:20260305T142722Z
UID:15068-1782489600-1782500400@lyddkartcircuit.com
SUMMARY:Bambino Academy
DESCRIPTION:Our bambino academy runs from 4pm to 7pm \nAges 6 – 8 years old \nThis includes 4 x 15 minute sessions on circuit. \nAll equipment is provided
URL:https://lyddkartcircuit.com/event/bambino-academy-5/
LOCATION:Lydd Kart Circuit\, Dengemarsh Road\, Lydd\, Kent\, TN29 9JH\, United Kingdom
ATTACH;FMTTYPE=image/jpeg:https://lyddkartcircuit.com/wp-content/uploads/2023/01/Bambino-banner-2.jpg
ORGANIZER;CN="Lydd Kart Circuit":MAILTO:lyddcircuit@yahoo.co.uk
END:VEVENT
END:VCALENDAR