BEGIN:VCALENDAR
VERSION:2.0
PRODID:-//Lydd Kart Circuit - ECPv6.15.20//NONSGML v1.0//EN
CALSCALE:GREGORIAN
METHOD:PUBLISH
X-WR-CALNAME:Lydd Kart Circuit
X-ORIGINAL-URL:https://lyddkartcircuit.com
X-WR-CALDESC:Events for Lydd Kart Circuit
REFRESH-INTERVAL;VALUE=DURATION:PT1H
X-Robots-Tag:noindex
X-PUBLISHED-TTL:PT1H
BEGIN:VTIMEZONE
TZID:UTC
BEGIN:STANDARD
TZOFFSETFROM:+0000
TZOFFSETTO:+0000
TZNAME:UTC
DTSTART:20250101T000000
END:STANDARD
END:VTIMEZONE
BEGIN:VEVENT
DTSTART;VALUE=DATE:20260906
DTEND;VALUE=DATE:20260907
DTSTAMP:20260420T144646
CREATED:20251124T154125Z
LAST-MODIFIED:20251124T154125Z
UID:14856-1788652800-1788739199@lyddkartcircuit.com
SUMMARY:LIKC - Race Day Summer Rd 5
DESCRIPTION:LIKC Owner Driver Race Day – Round 5 Summer Series\n10:00 am – 4:00 pm\nRace Meeting for the following classes: Bambino / Rotax Cadet / Honda Cadet 200rpm sealed / Rotax Inter / Junior Rotax / Senior Rotax / Rotax 177 \nTO ENTER\, please visit TRAKENTRIES | Lydd Kart Club \n‘Final Instructions’ will be posted on the LIKC notice board and emailed out to all registered competitors a few days before the event. \nCafé will be open for Hot food\, Hot drinks\, Cold drinks\, and snacks. \nOn Saturday you can stay overnight at the circuit in your own self-contained accommodation. \nFor any further Enquires please call 01797321747
URL:https://lyddkartcircuit.com/event/likc-race-day-summer-rd-5/
LOCATION:Lydd Kart Circuit\, Dengemarsh Road\, Lydd\, Kent\, TN29 9JH\, United Kingdom
CATEGORIES:LIKC
ATTACH;FMTTYPE=image/jpeg:https://lyddkartcircuit.com/wp-content/uploads/2023/02/Top-Banner-2.jpg
ORGANIZER;CN="Lydd Kart Circuit":MAILTO:lyddcircuit@yahoo.co.uk
END:VEVENT
END:VCALENDAR