BEGIN:VCALENDAR
VERSION:2.0
PRODID:-//Lydd Kart Circuit - ECPv6.15.20//NONSGML v1.0//EN
CALSCALE:GREGORIAN
METHOD:PUBLISH
X-WR-CALNAME:Lydd Kart Circuit
X-ORIGINAL-URL:https://lyddkartcircuit.com
X-WR-CALDESC:Events for Lydd Kart Circuit
REFRESH-INTERVAL;VALUE=DURATION:PT1H
X-Robots-Tag:noindex
X-PUBLISHED-TTL:PT1H
BEGIN:VTIMEZONE
TZID:UTC
BEGIN:STANDARD
TZOFFSETFROM:+0000
TZOFFSETTO:+0000
TZNAME:UTC
DTSTART:20250101T000000
END:STANDARD
END:VTIMEZONE
BEGIN:VEVENT
DTSTART;VALUE=DATE:20260829
DTEND;VALUE=DATE:20260831
DTSTAMP:20260421T111046
CREATED:20260421T100031Z
LAST-MODIFIED:20260421T100136Z
UID:15325-1787961600-1788134399@lyddkartcircuit.com
SUMMARY:Hire Karts
DESCRIPTION:Hire Karts\n9:00 am – 4:00 pm\nHIRE KARTS are available today. Please phone in advance of coming to the circuit to process your booking with us thank you. A 50% deposit is needed to secure any booking. \nSessions start from £30 per adult/child on our family circuit / Adult only time trial sessions start from £35 per person on our Senior Circuit and events start from £55 per person on our senior circuit. Please refer to our Hire Karts section \nAll drivers to report/sign in at reception upon circuit arrival please. \nNo Owner Drivers today except Bambino Hour \nBAMBINO HOUR: runs today from 9am to 10am – owner drivers to this class only\, £25 per kart please sign on and pay at Lydd reception for this.
URL:https://lyddkartcircuit.com/event/hire-karts-13/
LOCATION:Lydd Kart Circuit\, Dengemarsh Road\, Lydd\, Kent\, TN29 9JH\, United Kingdom
CATEGORIES:Hire Karts
ATTACH;FMTTYPE=image/jpeg:https://lyddkartcircuit.com/wp-content/uploads/2023/02/Top-Banner-1.jpg
ORGANIZER;CN="Lydd Kart Circuit":MAILTO:lyddcircuit@yahoo.co.uk
END:VEVENT
BEGIN:VEVENT
DTSTART;VALUE=DATE:20260831
DTEND;VALUE=DATE:20260904
DTSTAMP:20260421T111046
CREATED:20260421T101328Z
LAST-MODIFIED:20260421T101328Z
UID:15347-1788134400-1788479999@lyddkartcircuit.com
SUMMARY:Hire Karts
DESCRIPTION:Hire Karts\n9:00 am – 4:00 pm\nHIRE KARTS are available today. Please phone in advance of coming to the circuit to process your booking with us thank you. A 50% deposit is needed to secure any booking. \nSessions start from £30 per adult/child on our family circuit / Adult only time trial sessions start from £35 per person on our Senior Circuit and events start from £55 per person on our senior circuit. Please refer to our Hire Karts section \nAll drivers to report/sign in at reception upon circuit arrival please. \nNo Owner Drivers today except Bambino Hour \nBAMBINO HOUR: runs today from 9am to 10am – owner drivers to this class only\, £25 per kart please sign on and pay at Lydd reception for this.
URL:https://lyddkartcircuit.com/event/hire-karts-25/
LOCATION:Lydd Kart Circuit\, Dengemarsh Road\, Lydd\, Kent\, TN29 9JH\, United Kingdom
CATEGORIES:Hire Karts
ATTACH;FMTTYPE=image/jpeg:https://lyddkartcircuit.com/wp-content/uploads/2023/02/Top-Banner-1.jpg
ORGANIZER;CN="Lydd Kart Circuit":MAILTO:lyddcircuit@yahoo.co.uk
END:VEVENT
BEGIN:VEVENT
DTSTART;VALUE=DATE:20260904
DTEND;VALUE=DATE:20260905
DTSTAMP:20260421T111046
CREATED:20260421T101114Z
LAST-MODIFIED:20260421T101114Z
UID:15337-1788480000-1788566399@lyddkartcircuit.com
SUMMARY:Owner Driver Practice
DESCRIPTION:Owner Driver Practice – No Hire Karts\n9:00 am – 4:00 pm\nBambino Hour: 9am to 10am runs (bambinos only). SIGN ON for bambino hour takes place inside reception at Lydd. \nAfter the hour 10am to 4pm\, sessions will run/ rotate all day  (FULL DAY cost apply HALF DAY 10am to 1pm or 1pm to 4pm) \nFor classes Cadet Kart Classes / Junior Kart Classes / Senior Kart Classes. \nPLEASE BE ADVISED TO COME EQUIPPED WITH YOUR OWN KART/GLOVES/SUIT/HELMET/FOOTWEAR (full face crash helmet – nothing motor cross) \nAll drivers to sign in & pay for today at Lydd reception upon circuit arrival please. Payment can be made by cash or most debit/visa cards. \nContact us with your enquiry
URL:https://lyddkartcircuit.com/event/owner-driver-practice-28/
LOCATION:Lydd Kart Circuit\, Dengemarsh Road\, Lydd\, Kent\, TN29 9JH\, United Kingdom
CATEGORIES:Owner Practice
ATTACH;FMTTYPE=image/jpeg:https://lyddkartcircuit.com/wp-content/uploads/2023/02/Top-Banner.jpg
ORGANIZER;CN="Lydd Kart Circuit":MAILTO:lyddcircuit@yahoo.co.uk
END:VEVENT
BEGIN:VEVENT
DTSTART;TZID=UTC:20260904T160000
DTEND;TZID=UTC:20260904T190000
DTSTAMP:20260421T111046
CREATED:20260305T142853Z
LAST-MODIFIED:20260305T142853Z
UID:15078-1788537600-1788548400@lyddkartcircuit.com
SUMMARY:Bambino Academy
DESCRIPTION:Our bambino academy runs from 4pm to 7pm \nAges 6 – 8 years old \nThis includes 4 x 15 minute sessions on circuit. \nAll equipment is provided
URL:https://lyddkartcircuit.com/event/bambino-academy-10/
LOCATION:Lydd Kart Circuit\, Dengemarsh Road\, Lydd\, Kent\, TN29 9JH\, United Kingdom
ATTACH;FMTTYPE=image/jpeg:https://lyddkartcircuit.com/wp-content/uploads/2023/01/Bambino-banner-2.jpg
ORGANIZER;CN="Lydd Kart Circuit":MAILTO:lyddcircuit@yahoo.co.uk
END:VEVENT
BEGIN:VEVENT
DTSTART;VALUE=DATE:20260905
DTEND;VALUE=DATE:20260906
DTSTAMP:20260421T111046
CREATED:20251124T153606Z
LAST-MODIFIED:20251124T153606Z
UID:14848-1788566400-1788652799@lyddkartcircuit.com
SUMMARY:LIKC - Practice/Test Summer Rd 5
DESCRIPTION:Owner Driver Practice/Test Day – Round 5 Summer Series\n9:00 am – 4:00 pm\nBambino Hour: 9am to 10am runs (bambinos only). \nSIGN ON for bambino hour takes place inside reception at Lydd. \nAfter the hour 10am to 4pm\, sessions will run/ rotate all day\, race practice (test day) for tomorrows club race meeting. \nFor classes Bambino /  IAME Bambino / MightE Bambino / Rotax Cadet / Honda Cadet 200rpm Sealed  /  Rotax Inter / Junior Rotax / Senior Rotax / Rotax 177 \nToday will be experienced drivers\, please be advised this practice day is not for the new driver\, just starting out.
URL:https://lyddkartcircuit.com/event/likc-practice-test-summer-rd-5/
LOCATION:Lydd Kart Circuit\, Dengemarsh Road\, Lydd\, Kent\, TN29 9JH\, United Kingdom
CATEGORIES:LIKC
ATTACH;FMTTYPE=image/jpeg:https://lyddkartcircuit.com/wp-content/uploads/2023/02/Top-Banner-2.jpg
ORGANIZER;CN="Lydd Kart Circuit":MAILTO:lyddcircuit@yahoo.co.uk
END:VEVENT
BEGIN:VEVENT
DTSTART;VALUE=DATE:20260906
DTEND;VALUE=DATE:20260907
DTSTAMP:20260421T111046
CREATED:20251124T154125Z
LAST-MODIFIED:20251124T154125Z
UID:14856-1788652800-1788739199@lyddkartcircuit.com
SUMMARY:LIKC - Race Day Summer Rd 5
DESCRIPTION:LIKC Owner Driver Race Day – Round 5 Summer Series\n10:00 am – 4:00 pm\nRace Meeting for the following classes: Bambino / Rotax Cadet / Honda Cadet 200rpm sealed / Rotax Inter / Junior Rotax / Senior Rotax / Rotax 177 \nTO ENTER\, please visit TRAKENTRIES | Lydd Kart Club \n‘Final Instructions’ will be posted on the LIKC notice board and emailed out to all registered competitors a few days before the event. \nCafé will be open for Hot food\, Hot drinks\, Cold drinks\, and snacks. \nOn Saturday you can stay overnight at the circuit in your own self-contained accommodation. \nFor any further Enquires please call 01797321747
URL:https://lyddkartcircuit.com/event/likc-race-day-summer-rd-5/
LOCATION:Lydd Kart Circuit\, Dengemarsh Road\, Lydd\, Kent\, TN29 9JH\, United Kingdom
CATEGORIES:LIKC
ATTACH;FMTTYPE=image/jpeg:https://lyddkartcircuit.com/wp-content/uploads/2023/02/Top-Banner-2.jpg
ORGANIZER;CN="Lydd Kart Circuit":MAILTO:lyddcircuit@yahoo.co.uk
END:VEVENT
BEGIN:VEVENT
DTSTART;VALUE=DATE:20260911
DTEND;VALUE=DATE:20260912
DTSTAMP:20260421T111046
CREATED:20260421T101530Z
LAST-MODIFIED:20260421T101530Z
UID:15349-1789084800-1789171199@lyddkartcircuit.com
SUMMARY:Owner Driver Practice
DESCRIPTION:Owner Driver Practice – No Hire Karts\n9:00 am – 4:00 pm\nBambino Hour: 9am to 10am runs (bambinos only). SIGN ON for bambino hour takes place inside reception at Lydd. \nAfter the hour 10am to 4pm\, sessions will run/ rotate all day  (FULL DAY cost apply HALF DAY 10am to 1pm or 1pm to 4pm) \nFor classes Cadet Kart Classes / Junior Kart Classes / Senior Kart Classes. \nPLEASE BE ADVISED TO COME EQUIPPED WITH YOUR OWN KART/GLOVES/SUIT/HELMET/FOOTWEAR (full face crash helmet – nothing motor cross) \nAll drivers to sign in & pay for today at Lydd reception upon circuit arrival please. Payment can be made by cash or most debit/visa cards. \nContact us with your enquiry
URL:https://lyddkartcircuit.com/event/owner-driver-practice-29/
LOCATION:Lydd Kart Circuit\, Dengemarsh Road\, Lydd\, Kent\, TN29 9JH\, United Kingdom
CATEGORIES:Owner Practice
ATTACH;FMTTYPE=image/jpeg:https://lyddkartcircuit.com/wp-content/uploads/2023/02/Top-Banner.jpg
ORGANIZER;CN="Lydd Kart Circuit":MAILTO:lyddcircuit@yahoo.co.uk
END:VEVENT
BEGIN:VEVENT
DTSTART;VALUE=DATE:20260912
DTEND;VALUE=DATE:20260914
DTSTAMP:20260421T111046
CREATED:20250510T140559Z
LAST-MODIFIED:20250510T140559Z
UID:14311-1789171200-1789343999@lyddkartcircuit.com
SUMMARY:Private Event - Club100
DESCRIPTION:CLOSED FOR PRIVATE EVENT\nThere are no HIRE KARTS\, BAMBINO HOUR or OWNER DRIVER bookings available today as our circuit is closed for a private event.
URL:https://lyddkartcircuit.com/event/private-event-club100-2/
LOCATION:Lydd Kart Circuit\, Dengemarsh Road\, Lydd\, Kent\, TN29 9JH\, United Kingdom
CATEGORIES:Private Hire
ATTACH;FMTTYPE=image/jpeg:https://lyddkartcircuit.com/wp-content/uploads/2023/03/club-100.jpg
END:VEVENT
BEGIN:VEVENT
DTSTART;VALUE=DATE:20260918
DTEND;VALUE=DATE:20260919
DTSTAMP:20260421T111046
CREATED:20260421T101549Z
LAST-MODIFIED:20260421T101549Z
UID:15351-1789689600-1789775999@lyddkartcircuit.com
SUMMARY:Owner Driver Practice
DESCRIPTION:Owner Driver Practice – No Hire Karts\n9:00 am – 4:00 pm\nBambino Hour: 9am to 10am runs (bambinos only). SIGN ON for bambino hour takes place inside reception at Lydd. \nAfter the hour 10am to 4pm\, sessions will run/ rotate all day  (FULL DAY cost apply HALF DAY 10am to 1pm or 1pm to 4pm) \nFor classes Cadet Kart Classes / Junior Kart Classes / Senior Kart Classes. \nPLEASE BE ADVISED TO COME EQUIPPED WITH YOUR OWN KART/GLOVES/SUIT/HELMET/FOOTWEAR (full face crash helmet – nothing motor cross) \nAll drivers to sign in & pay for today at Lydd reception upon circuit arrival please. Payment can be made by cash or most debit/visa cards. \nContact us with your enquiry
URL:https://lyddkartcircuit.com/event/owner-driver-practice-30/
LOCATION:Lydd Kart Circuit\, Dengemarsh Road\, Lydd\, Kent\, TN29 9JH\, United Kingdom
CATEGORIES:Owner Practice
ATTACH;FMTTYPE=image/jpeg:https://lyddkartcircuit.com/wp-content/uploads/2023/02/Top-Banner.jpg
ORGANIZER;CN="Lydd Kart Circuit":MAILTO:lyddcircuit@yahoo.co.uk
END:VEVENT
BEGIN:VEVENT
DTSTART;TZID=UTC:20260918T160000
DTEND;TZID=UTC:20260918T190000
DTSTAMP:20260421T111046
CREATED:20260305T142910Z
LAST-MODIFIED:20260305T142910Z
UID:15080-1789747200-1789758000@lyddkartcircuit.com
SUMMARY:Bambino Academy
DESCRIPTION:Our bambino academy runs from 4pm to 7pm \nAges 6 – 8 years old \nThis includes 4 x 15 minute sessions on circuit. \nAll equipment is provided
URL:https://lyddkartcircuit.com/event/bambino-academy-11/
LOCATION:Lydd Kart Circuit\, Dengemarsh Road\, Lydd\, Kent\, TN29 9JH\, United Kingdom
ATTACH;FMTTYPE=image/jpeg:https://lyddkartcircuit.com/wp-content/uploads/2023/01/Bambino-banner-2.jpg
ORGANIZER;CN="Lydd Kart Circuit":MAILTO:lyddcircuit@yahoo.co.uk
END:VEVENT
BEGIN:VEVENT
DTSTART;VALUE=DATE:20260925
DTEND;VALUE=DATE:20260926
DTSTAMP:20260421T111046
CREATED:20260421T101609Z
LAST-MODIFIED:20260421T101609Z
UID:15353-1790294400-1790380799@lyddkartcircuit.com
SUMMARY:Owner Driver Practice
DESCRIPTION:Owner Driver Practice – No Hire Karts\n9:00 am – 4:00 pm\nBambino Hour: 9am to 10am runs (bambinos only). SIGN ON for bambino hour takes place inside reception at Lydd. \nAfter the hour 10am to 4pm\, sessions will run/ rotate all day  (FULL DAY cost apply HALF DAY 10am to 1pm or 1pm to 4pm) \nFor classes Cadet Kart Classes / Junior Kart Classes / Senior Kart Classes. \nPLEASE BE ADVISED TO COME EQUIPPED WITH YOUR OWN KART/GLOVES/SUIT/HELMET/FOOTWEAR (full face crash helmet – nothing motor cross) \nAll drivers to sign in & pay for today at Lydd reception upon circuit arrival please. Payment can be made by cash or most debit/visa cards. \nContact us with your enquiry
URL:https://lyddkartcircuit.com/event/owner-driver-practice-31/
LOCATION:Lydd Kart Circuit\, Dengemarsh Road\, Lydd\, Kent\, TN29 9JH\, United Kingdom
CATEGORIES:Owner Practice
ATTACH;FMTTYPE=image/jpeg:https://lyddkartcircuit.com/wp-content/uploads/2023/02/Top-Banner.jpg
ORGANIZER;CN="Lydd Kart Circuit":MAILTO:lyddcircuit@yahoo.co.uk
END:VEVENT
BEGIN:VEVENT
DTSTART;VALUE=DATE:20261002
DTEND;VALUE=DATE:20261003
DTSTAMP:20260421T111046
CREATED:20260421T101631Z
LAST-MODIFIED:20260421T101631Z
UID:15355-1790899200-1790985599@lyddkartcircuit.com
SUMMARY:Owner Driver Practice
DESCRIPTION:Owner Driver Practice – No Hire Karts\n9:00 am – 4:00 pm\nBambino Hour: 9am to 10am runs (bambinos only). SIGN ON for bambino hour takes place inside reception at Lydd. \nAfter the hour 10am to 4pm\, sessions will run/ rotate all day  (FULL DAY cost apply HALF DAY 10am to 1pm or 1pm to 4pm) \nFor classes Cadet Kart Classes / Junior Kart Classes / Senior Kart Classes. \nPLEASE BE ADVISED TO COME EQUIPPED WITH YOUR OWN KART/GLOVES/SUIT/HELMET/FOOTWEAR (full face crash helmet – nothing motor cross) \nAll drivers to sign in & pay for today at Lydd reception upon circuit arrival please. Payment can be made by cash or most debit/visa cards. \nContact us with your enquiry
URL:https://lyddkartcircuit.com/event/owner-driver-practice-36/
LOCATION:Lydd Kart Circuit\, Dengemarsh Road\, Lydd\, Kent\, TN29 9JH\, United Kingdom
CATEGORIES:Owner Practice
ATTACH;FMTTYPE=image/jpeg:https://lyddkartcircuit.com/wp-content/uploads/2023/02/Top-Banner.jpg
ORGANIZER;CN="Lydd Kart Circuit":MAILTO:lyddcircuit@yahoo.co.uk
END:VEVENT
BEGIN:VEVENT
DTSTART;VALUE=DATE:20261009
DTEND;VALUE=DATE:20261010
DTSTAMP:20260421T111046
CREATED:20260421T101700Z
LAST-MODIFIED:20260421T101700Z
UID:15357-1791504000-1791590399@lyddkartcircuit.com
SUMMARY:Owner Driver Practice
DESCRIPTION:Owner Driver Practice – No Hire Karts\n9:00 am – 4:00 pm\nBambino Hour: 9am to 10am runs (bambinos only). SIGN ON for bambino hour takes place inside reception at Lydd. \nAfter the hour 10am to 4pm\, sessions will run/ rotate all day  (FULL DAY cost apply HALF DAY 10am to 1pm or 1pm to 4pm) \nFor classes Cadet Kart Classes / Junior Kart Classes / Senior Kart Classes. \nPLEASE BE ADVISED TO COME EQUIPPED WITH YOUR OWN KART/GLOVES/SUIT/HELMET/FOOTWEAR (full face crash helmet – nothing motor cross) \nAll drivers to sign in & pay for today at Lydd reception upon circuit arrival please. Payment can be made by cash or most debit/visa cards. \nContact us with your enquiry
URL:https://lyddkartcircuit.com/event/owner-driver-practice-37/
LOCATION:Lydd Kart Circuit\, Dengemarsh Road\, Lydd\, Kent\, TN29 9JH\, United Kingdom
CATEGORIES:Owner Practice
ATTACH;FMTTYPE=image/jpeg:https://lyddkartcircuit.com/wp-content/uploads/2023/02/Top-Banner.jpg
ORGANIZER;CN="Lydd Kart Circuit":MAILTO:lyddcircuit@yahoo.co.uk
END:VEVENT
BEGIN:VEVENT
DTSTART;VALUE=DATE:20261010
DTEND;VALUE=DATE:20261011
DTSTAMP:20260421T111046
CREATED:20251124T153714Z
LAST-MODIFIED:20260105T101023Z
UID:14850-1791590400-1791676799@lyddkartcircuit.com
SUMMARY:LIKC - Practice/Test Summer Rd 6
DESCRIPTION:Owner Driver Practice/Test Day – Round 6 Summer Series\n9:00 am – 4:00 pm\nBambino Hour: 9am to 10am runs (bambinos only). \nSIGN ON for bambino hour takes place inside reception at Lydd. \nAfter the hour 10am to 4pm\, sessions will run/ rotate all day\, race practice (test day) for tomorrows club race meeting. \nFor classes Bambino /  IAME Bambino / MightE Bambino / Rotax Cadet / Honda Cadet 200rpm Sealed  /  Rotax Inter / Junior Rotax / Senior Rotax / Rotax 177 \nToday will be experienced drivers\, please be advised this practice day is not for the new driver\, just starting out.
URL:https://lyddkartcircuit.com/event/likc-practice-test-summer-rd-6/
LOCATION:Lydd Kart Circuit\, Dengemarsh Road\, Lydd\, Kent\, TN29 9JH\, United Kingdom
CATEGORIES:LIKC
ATTACH;FMTTYPE=image/jpeg:https://lyddkartcircuit.com/wp-content/uploads/2023/02/Top-Banner-2.jpg
ORGANIZER;CN="Lydd Kart Circuit":MAILTO:lyddcircuit@yahoo.co.uk
END:VEVENT
BEGIN:VEVENT
DTSTART;VALUE=DATE:20261011
DTEND;VALUE=DATE:20261012
DTSTAMP:20260421T111046
CREATED:20251124T154226Z
LAST-MODIFIED:20260105T101228Z
UID:14858-1791676800-1791763199@lyddkartcircuit.com
SUMMARY:LIKC - Race Day Summer Rd 6
DESCRIPTION:LIKC Owner Driver Race Day – Round 6 Summer Series\n10:00 am – 4:00 pm\nRace Meeting for the following classes: Bambino / Rotax Cadet / Honda Cadet 200rpm sealed / Rotax Inter / Junior Rotax / Senior Rotax / Rotax 177 \nTO ENTER\, please visit TRAKENTRIES | Lydd Kart Club \n‘Final Instructions’ will be posted on the LIKC notice board and emailed out to all registered competitors a few days before the event. \nCafé will be open for Hot food\, Hot drinks\, Cold drinks\, and snacks. \nOn Saturday you can stay overnight at the circuit in your own self-contained accommodation. \nFor any further Enquires please call 01797321747
URL:https://lyddkartcircuit.com/event/likc-race-day-summer-rd-6/
LOCATION:Lydd Kart Circuit\, Dengemarsh Road\, Lydd\, Kent\, TN29 9JH\, United Kingdom
CATEGORIES:LIKC
ATTACH;FMTTYPE=image/jpeg:https://lyddkartcircuit.com/wp-content/uploads/2023/02/Top-Banner-2.jpg
ORGANIZER;CN="Lydd Kart Circuit":MAILTO:lyddcircuit@yahoo.co.uk
END:VEVENT
BEGIN:VEVENT
DTSTART;VALUE=DATE:20261016
DTEND;VALUE=DATE:20261017
DTSTAMP:20260421T111046
CREATED:20260421T101719Z
LAST-MODIFIED:20260421T101719Z
UID:15359-1792108800-1792195199@lyddkartcircuit.com
SUMMARY:Owner Driver Practice
DESCRIPTION:Owner Driver Practice – No Hire Karts\n9:00 am – 4:00 pm\nBambino Hour: 9am to 10am runs (bambinos only). SIGN ON for bambino hour takes place inside reception at Lydd. \nAfter the hour 10am to 4pm\, sessions will run/ rotate all day  (FULL DAY cost apply HALF DAY 10am to 1pm or 1pm to 4pm) \nFor classes Cadet Kart Classes / Junior Kart Classes / Senior Kart Classes. \nPLEASE BE ADVISED TO COME EQUIPPED WITH YOUR OWN KART/GLOVES/SUIT/HELMET/FOOTWEAR (full face crash helmet – nothing motor cross) \nAll drivers to sign in & pay for today at Lydd reception upon circuit arrival please. Payment can be made by cash or most debit/visa cards. \nContact us with your enquiry
URL:https://lyddkartcircuit.com/event/owner-driver-practice-38/
LOCATION:Lydd Kart Circuit\, Dengemarsh Road\, Lydd\, Kent\, TN29 9JH\, United Kingdom
CATEGORIES:Owner Practice
ATTACH;FMTTYPE=image/jpeg:https://lyddkartcircuit.com/wp-content/uploads/2023/02/Top-Banner.jpg
ORGANIZER;CN="Lydd Kart Circuit":MAILTO:lyddcircuit@yahoo.co.uk
END:VEVENT
BEGIN:VEVENT
DTSTART;VALUE=DATE:20261023
DTEND;VALUE=DATE:20261024
DTSTAMP:20260421T111046
CREATED:20260421T101741Z
LAST-MODIFIED:20260421T101741Z
UID:15361-1792713600-1792799999@lyddkartcircuit.com
SUMMARY:Owner Driver Practice
DESCRIPTION:Owner Driver Practice – No Hire Karts\n9:00 am – 4:00 pm\nBambino Hour: 9am to 10am runs (bambinos only). SIGN ON for bambino hour takes place inside reception at Lydd. \nAfter the hour 10am to 4pm\, sessions will run/ rotate all day  (FULL DAY cost apply HALF DAY 10am to 1pm or 1pm to 4pm) \nFor classes Cadet Kart Classes / Junior Kart Classes / Senior Kart Classes. \nPLEASE BE ADVISED TO COME EQUIPPED WITH YOUR OWN KART/GLOVES/SUIT/HELMET/FOOTWEAR (full face crash helmet – nothing motor cross) \nAll drivers to sign in & pay for today at Lydd reception upon circuit arrival please. Payment can be made by cash or most debit/visa cards. \nContact us with your enquiry
URL:https://lyddkartcircuit.com/event/owner-driver-practice-39/
LOCATION:Lydd Kart Circuit\, Dengemarsh Road\, Lydd\, Kent\, TN29 9JH\, United Kingdom
CATEGORIES:Owner Practice
ATTACH;FMTTYPE=image/jpeg:https://lyddkartcircuit.com/wp-content/uploads/2023/02/Top-Banner.jpg
ORGANIZER;CN="Lydd Kart Circuit":MAILTO:lyddcircuit@yahoo.co.uk
END:VEVENT
BEGIN:VEVENT
DTSTART;VALUE=DATE:20261030
DTEND;VALUE=DATE:20261031
DTSTAMP:20260421T111046
CREATED:20260421T101813Z
LAST-MODIFIED:20260421T101813Z
UID:15363-1793318400-1793404799@lyddkartcircuit.com
SUMMARY:Owner Driver Practice
DESCRIPTION:Owner Driver Practice – No Hire Karts\n9:00 am – 4:00 pm\nBambino Hour: 9am to 10am runs (bambinos only). SIGN ON for bambino hour takes place inside reception at Lydd. \nAfter the hour 10am to 4pm\, sessions will run/ rotate all day  (FULL DAY cost apply HALF DAY 10am to 1pm or 1pm to 4pm) \nFor classes Cadet Kart Classes / Junior Kart Classes / Senior Kart Classes. \nPLEASE BE ADVISED TO COME EQUIPPED WITH YOUR OWN KART/GLOVES/SUIT/HELMET/FOOTWEAR (full face crash helmet – nothing motor cross) \nAll drivers to sign in & pay for today at Lydd reception upon circuit arrival please. Payment can be made by cash or most debit/visa cards. \nContact us with your enquiry
URL:https://lyddkartcircuit.com/event/owner-driver-practice-40/
LOCATION:Lydd Kart Circuit\, Dengemarsh Road\, Lydd\, Kent\, TN29 9JH\, United Kingdom
CATEGORIES:Owner Practice
ATTACH;FMTTYPE=image/jpeg:https://lyddkartcircuit.com/wp-content/uploads/2023/02/Top-Banner.jpg
ORGANIZER;CN="Lydd Kart Circuit":MAILTO:lyddcircuit@yahoo.co.uk
END:VEVENT
END:VCALENDAR